Workbook

Sheet How to use
B1: Wholesaling Deal Analyzer
B2: A free deal analyzer for wholesalers: compute ARV, repairs, MAO, and assignment spread with a go/pass signal in Google Sheets or Excel.
B4: Quick start
A5: 1 | B5: Open the Deals tab and replace the sample rows with your own — one row per entry. Formulas fill in automatically for new rows.
A6: 2 | B6: MAO = ARV x your buyers' percent minus repairs; Works turns red when the contract price leaves no room for your fee.
A7: 3 | B7: Arithmetic only, not legal or investment advice. Many states regulate wholesaling and assignment; disclose your role and follow your state's rules.
A8: 4 | B8: Keep a backup copy before restructuring columns; renaming a header is safe, deleting a column used in formulas is not.
B10: Colour key
B11: Yellow cells: type your numbers here.
B12: Grey cells: calculated automatically. Leave them alone.
B13: Red highlight: overdue or below a limit. Needs attention.
B14: Amber highlight: getting close. Check soon.
B16: Sample rows are examples. Overwrite or delete them. Formulas extend to new rows automatically. Works in Excel and Google Sheets (File → Import).

Sheet Deals
A1: Address | B1: ARV | C1: Repair estimate | D1: Seller asking | E1: Contract price | F1: Assignment fee target | G1: Status | H1: MAO (buyer's max) | I1: Max contract price | J1: Spread at contract | K1: Works
A2: 14 Oak Ct | B2: 240000 | C2: 45000 | D2: 140000 | E2: 108000 | F2: 10000 | G2: Under contract | H2: =IF($A2="","",ROUND(((B2*'Rules'!$B$3)-C2),0)) -> 123000 | I2: =IF($A2="","",(H2-F2)) -> 113000 | J2: =IF($A2="","",(H2-E2)) -> 15000 | K2: =IF($A2="","",IF((E2<=I2),"Yes","Too high")) -> Yes
A3: 7 Birch Ln | B3: 185000 | C3: 30000 | D3: 120000 | E3: 112000 | F3: 8000 | G3: Offer made | H3: =IF($A3="","",ROUND(((B3*'Rules'!$B$3)-C3),0)) -> 99500 | I3: =IF($A3="","",(H3-F3)) -> 91500 | J3: =IF($A3="","",(H3-E3)) -> -12500 | K3: =IF($A3="","",IF((E3<=I3),"Yes","Too high")) -> Too high
A4: 22 Pine Rd | B4: 320000 | C4: 80000 | D4: 190000 | E4: 0 | F4: 12000 | G4: Analyzing | H4: =IF($A4="","",ROUND(((B4*'Rules'!$B$3)-C4),0)) -> 144000 | I4: =IF($A4="","",(H4-F4)) -> 132000 | J4: =IF($A4="","",(H4-E4)) -> 144000 | K4: =IF($A4="","",IF((E4<=I4),"Yes","Too high")) -> Yes
A5: 9 Elm St | B5: 160000 | C5: 25000 | D5: 95000 | E5: 76000 | F5: 7500 | G5: Assigned | H5: =IF($A5="","",ROUND(((B5*'Rules'!$B$3)-C5),0)) -> 87000 | I5: =IF($A5="","",(H5-F5)) -> 79500 | J5: =IF($A5="","",(H5-E5)) -> 11000 | K5: =IF($A5="","",IF((E5<=I5),"Yes","Too high")) -> Yes
H6: =IF($A6="","",ROUND(((B6*'Rules'!$B$3)-C6),0)) | I6: =IF($A6="","",(H6-F6)) | J6: =IF($A6="","",(H6-E6)) | K6: =IF($A6="","",IF((E6<=I6),"Yes","Too high"))
H7: =IF($A7="","",ROUND(((B7*'Rules'!$B$3)-C7),0)) | I7: =IF($A7="","",(H7-F7)) | J7: =IF($A7="","",(H7-E7)) | K7: =IF($A7="","",IF((E7<=I7),"Yes","Too high"))
H8: =IF($A8="","",ROUND(((B8*'Rules'!$B$3)-C8),0)) | I8: =IF($A8="","",(H8-F8)) | J8: =IF($A8="","",(H8-E8)) | K8: =IF($A8="","",IF((E8<=I8),"Yes","Too high"))
H9: =IF($A9="","",ROUND(((B9*'Rules'!$B$3)-C9),0)) | I9: =IF($A9="","",(H9-F9)) | J9: =IF($A9="","",(H9-E9)) | K9: =IF($A9="","",IF((E9<=I9),"Yes","Too high"))
H10: =IF($A10="","",ROUND(((B10*'Rules'!$B$3)-C10),0)) | I10: =IF($A10="","",(H10-F10)) | J10: =IF($A10="","",(H10-E10)) | K10: =IF($A10="","",IF((E10<=I10),"Yes","Too high"))
H11: =IF($A11="","",ROUND(((B11*'Rules'!$B$3)-C11),0)) | I11: =IF($A11="","",(H11-F11)) | J11: =IF($A11="","",(H11-E11)) | K11: =IF($A11="","",IF((E11<=I11),"Yes","Too high"))
H12: =IF($A12="","",ROUND(((B12*'Rules'!$B$3)-C12),0)) | I12: =IF($A12="","",(H12-F12)) | J12: =IF($A12="","",(H12-E12)) | K12: =IF($A12="","",IF((E12<=I12),"Yes","Too high"))
H13: =IF($A13="","",ROUND(((B13*'Rules'!$B$3)-C13),0)) | I13: =IF($A13="","",(H13-F13)) | J13: =IF($A13="","",(H13-E13)) | K13: =IF($A13="","",IF((E13<=I13),"Yes","Too high"))
H14: =IF($A14="","",ROUND(((B14*'Rules'!$B$3)-C14),0)) | I14: =IF($A14="","",(H14-F14)) | J14: =IF($A14="","",(H14-E14)) | K14: =IF($A14="","",IF((E14<=I14),"Yes","Too high"))
H15: =IF($A15="","",ROUND(((B15*'Rules'!$B$3)-C15),0)) | I15: =IF($A15="","",(H15-F15)) | J15: =IF($A15="","",(H15-E15)) | K15: =IF($A15="","",IF((E15<=I15),"Yes","Too high"))
H16: =IF($A16="","",ROUND(((B16*'Rules'!$B$3)-C16),0)) | I16: =IF($A16="","",(H16-F16)) | J16: =IF($A16="","",(H16-E16)) | K16: =IF($A16="","",IF((E16<=I16),"Yes","Too high"))
H17: =IF($A17="","",ROUND(((B17*'Rules'!$B$3)-C17),0)) | I17: =IF($A17="","",(H17-F17)) | J17: =IF($A17="","",(H17-E17)) | K17: =IF($A17="","",IF((E17<=I17),"Yes","Too high"))
... H201: =IF($A201="","",ROUND(((B201*'Rules'!$B$3)-C201),0)) | I201: =IF($A201="","",(H201-F201)) | J201: =IF($A201="","",(H201-E201)) | K201: =IF($A201="","",IF((E201<=I201),"Yes","Too high"))

Sheet Rules
A1: Item | B1: Value | C1: Notes
A2: Settings
A3: Buyer max % of ARV | B3: 0.7 | C3: The common 70% rule; your buyers may differ.
A4: Pipeline
A5: Deals under contract | B5: =COUNTIF('Deals'!$G$2:$G$201,"Under contract") -> 1
A6: Assignment fees (assigned or closed) | B6: =(SUMIFS('Deals'!$F$2:$F$201,'Deals'!$G$2:$G$201,"Assigned")+SUMIFS('Deals'!$F$2:$F$201,'Deals'!$G$2:$G$201,"Closed")) -> 7500
