Workbook

Sheet How to use
B1: Sod Farm Field Inventory
B2: A free field inventory for sod farms: track fields by variety and acres with maturity and harvestable-now counts in Sheets or Excel.
B4: Quick start
A5: 1 | B5: Open the Fields tab and replace the sample rows with your own — one row per entry. Formulas fill in automatically for new rows.
A6: 2 | B6: Ready date is planted date plus months to maturity; harvestable square yards counts fields marked Ready or Harvesting.
A7: 3 | B7: Yards per acre is net after borders and roadways (an acre is 4,840 sq yd).
A8: 4 | B8: Keep a backup copy before restructuring columns; renaming a header is safe, deleting a column used in formulas is not.
B10: Colour key
B11: Yellow cells: type your numbers here.
B12: Grey cells: calculated automatically. Leave them alone.
B13: Red highlight: overdue or below a limit. Needs attention.
B14: Amber highlight: getting close. Check soon.
B16: Sample rows are examples. Overwrite or delete them. Formulas extend to new rows automatically. Works in Excel and Google Sheets (File → Import).

Sheet Fields
A1: Field | B1: Variety | C1: Acres | D1: Planted | E1: Months to maturity | F1: Status | G1: Yards per acre | H1: Ready date | I1: Harvestable sq yd
A2: North 1 | B2: Tall fescue blend | C2: 12 | D2: 45974 | E2: 10 | F2: Ready | G2: 4500 | H2: =IF($A2="","",EDATE(D2,E2)) -> 46278 | I2: =IF($A2="","",IF(OR((F2="Ready"),(F2="Harvesting")),(C2*G2),0)) -> 54000
A3: North 2 | B3: Kentucky bluegrass | C3: 10 | D3: 46066 | E3: 14 | F3: Growing | G3: 4500 | H3: =IF($A3="","",EDATE(D3,E3)) -> 46490 | I3: =IF($A3="","",IF(OR((F3="Ready"),(F3="Harvesting")),(C3*G3),0)) -> 0
A4: South 1 | B4: Bermuda | C4: 18 | D4: 45943 | E4: 10 | F4: Harvesting | G4: 4600 | H4: =IF($A4="","",EDATE(D4,E4)) -> 46247 | I4: =IF($A4="","",IF(OR((F4="Ready"),(F4="Harvesting")),(C4*G4),0)) -> 82800
A5: South 2 | B5: Zoysia | C5: 9 | D5: 45882 | E5: 18 | F5: Growing | G5: 4600 | H5: =IF($A5="","",EDATE(D5,E5)) -> 46431 | I5: =IF($A5="","",IF(OR((F5="Ready"),(F5="Harvesting")),(C5*G5),0)) -> 0
A6: East | B6: Tall fescue blend | C6: 15 | D6: 46247 | E6: 10 | F6: Growing | G6: 4500 | H6: =IF($A6="","",EDATE(D6,E6)) -> 46551 | I6: =IF($A6="","",IF(OR((F6="Ready"),(F6="Harvesting")),(C6*G6),0)) -> 0
A7: West | B7: Bermuda | C7: 14 | D7: 46278 | E7: 0 | F7: Fallow | G7: 0 | H7: =IF($A7="","",EDATE(D7,E7)) -> 46278 | I7: =IF($A7="","",IF(OR((F7="Ready"),(F7="Harvesting")),(C7*G7),0)) -> 0
H8: =IF($A8="","",EDATE(D8,E8)) | I8: =IF($A8="","",IF(OR((F8="Ready"),(F8="Harvesting")),(C8*G8),0))
H9: =IF($A9="","",EDATE(D9,E9)) | I9: =IF($A9="","",IF(OR((F9="Ready"),(F9="Harvesting")),(C9*G9),0))
H10: =IF($A10="","",EDATE(D10,E10)) | I10: =IF($A10="","",IF(OR((F10="Ready"),(F10="Harvesting")),(C10*G10),0))
H11: =IF($A11="","",EDATE(D11,E11)) | I11: =IF($A11="","",IF(OR((F11="Ready"),(F11="Harvesting")),(C11*G11),0))
H12: =IF($A12="","",EDATE(D12,E12)) | I12: =IF($A12="","",IF(OR((F12="Ready"),(F12="Harvesting")),(C12*G12),0))
H13: =IF($A13="","",EDATE(D13,E13)) | I13: =IF($A13="","",IF(OR((F13="Ready"),(F13="Harvesting")),(C13*G13),0))
H14: =IF($A14="","",EDATE(D14,E14)) | I14: =IF($A14="","",IF(OR((F14="Ready"),(F14="Harvesting")),(C14*G14),0))
H15: =IF($A15="","",EDATE(D15,E15)) | I15: =IF($A15="","",IF(OR((F15="Ready"),(F15="Harvesting")),(C15*G15),0))
H16: =IF($A16="","",EDATE(D16,E16)) | I16: =IF($A16="","",IF(OR((F16="Ready"),(F16="Harvesting")),(C16*G16),0))
H17: =IF($A17="","",EDATE(D17,E17)) | I17: =IF($A17="","",IF(OR((F17="Ready"),(F17="Harvesting")),(C17*G17),0))
H18: =IF($A18="","",EDATE(D18,E18)) | I18: =IF($A18="","",IF(OR((F18="Ready"),(F18="Harvesting")),(C18*G18),0))
H19: =IF($A19="","",EDATE(D19,E19)) | I19: =IF($A19="","",IF(OR((F19="Ready"),(F19="Harvesting")),(C19*G19),0))
... H201: =IF($A201="","",EDATE(D201,E201)) | I201: =IF($A201="","",IF(OR((F201="Ready"),(F201="Harvesting")),(C201*G201),0))

Sheet Summary
A1: Item | B1: Value | C1: Notes
A2: Overview
A3: Entries | B3: =COUNTA('Fields'!$A$2:$A$201) -> 6
A4: By status
A5: Status: Growing | B5: =COUNTIF('Fields'!$F$2:$F$201,"Growing") -> 3
A6: Status: Ready | B6: =COUNTIF('Fields'!$F$2:$F$201,"Ready") -> 1
A7: Status: Harvesting | B7: =COUNTIF('Fields'!$F$2:$F$201,"Harvesting") -> 1
A8: Status: Harvested | B8: =COUNTIF('Fields'!$F$2:$F$201,"Harvested") -> 0
A9: Status: Fallow | B9: =COUNTIF('Fields'!$F$2:$F$201,"Fallow") -> 1
