Workbook

Sheet How to use
B1: Reunion RSVP Planner
B2: A free RSVP tracker for reunions: organize responses by family branch with headcounts and lodging notes in Sheets or Excel.
B4: Quick start
A5: 1 | B5: Open the Families tab and replace the sample rows with your own — one row per entry. Formulas fill in automatically for new rows.
A6: 2 | B6: One row per household grouped by family branch; Headcount and Cost owed update from adults and kids.
A7: 3 | B7: Give the caterer the confirmed headcount plus a small buffer.
A8: 4 | B8: Keep a backup copy before restructuring columns; renaming a header is safe, deleting a column used in formulas is not.
B10: Colour key
B11: Yellow cells: type your numbers here.
B12: Grey cells: calculated automatically. Leave them alone.
B13: Red highlight: overdue or below a limit. Needs attention.
B14: Amber highlight: getting close. Check soon.
B16: Sample rows are examples. Overwrite or delete them. Formulas extend to new rows automatically. Works in Excel and Google Sheets (File → Import).

Sheet Families
A1: Household | B1: Branch | C1: Contact | D1: RSVP | E1: Adults | F1: Kids (5-12) | G1: Under 5 | H1: Staying overnight | I1: T-shirt sizes | J1: Paid | K1: Headcount | L1: Cost owed | M1: Balance
A2: The Morgans | B2: Grandma Rose line | C2: morgan@example.com | D2: Yes | E2: 2 | F2: 2 | G2: 0 | H2: Hotel block | I2: M, L, YS, YM | J2: 120 | K2: =IF($A2="","",((E2+F2)+G2)) -> 4 | L2: =IF($A2="","",((E2*'Reunion'!$B$3)+(F2*'Reunion'!$B$4))) -> 120 | M2: =IF($A2="","",(L2-J2)) -> 0
A3: Joe Jr. family | B3: Uncle Joe line | C3: 555-0112 | D3: Yes | E3: 2 | F3: 1 | G3: 1 | H3: Camping | I3: L, XL, YM | J3: 0 | K3: =IF($A3="","",((E3+F3)+G3)) -> 4 | L3: =IF($A3="","",((E3*'Reunion'!$B$3)+(F3*'Reunion'!$B$4))) -> 100 | M3: =IF($A3="","",(L3-J3)) -> 100
A4: The Patels | B4: Aunt May line | C4: patel@example.com | D4: Maybe | E4: 4 | F4: 0 | G4: 0 | H4: With family | J4: 0 | K4: =IF($A4="","",((E4+F4)+G4)) -> 4 | L4: =IF($A4="","",((E4*'Reunion'!$B$3)+(F4*'Reunion'!$B$4))) -> 160 | M4: =IF($A4="","",(L4-J4)) -> 160
A5: Cousin Ana | B5: Grandma Rose line | C5: 555-0134 | D5: Yes | E5: 1 | F5: 0 | G5: 0 | H5: No | I5: S | J5: 40 | K5: =IF($A5="","",((E5+F5)+G5)) -> 1 | L5: =IF($A5="","",((E5*'Reunion'!$B$3)+(F5*'Reunion'!$B$4))) -> 40 | M5: =IF($A5="","",(L5-J5)) -> 0
A6: The Lees | B6: Friends of family | C6: 555-0145 | D6: Pending | E6: 2 | F6: 3 | G6: 0 | H6: No | J6: 0 | K6: =IF($A6="","",((E6+F6)+G6)) -> 5 | L6: =IF($A6="","",((E6*'Reunion'!$B$3)+(F6*'Reunion'!$B$4))) -> 140 | M6: =IF($A6="","",(L6-J6)) -> 140
K7: =IF($A7="","",((E7+F7)+G7)) | L7: =IF($A7="","",((E7*'Reunion'!$B$3)+(F7*'Reunion'!$B$4))) | M7: =IF($A7="","",(L7-J7))
K8: =IF($A8="","",((E8+F8)+G8)) | L8: =IF($A8="","",((E8*'Reunion'!$B$3)+(F8*'Reunion'!$B$4))) | M8: =IF($A8="","",(L8-J8))
K9: =IF($A9="","",((E9+F9)+G9)) | L9: =IF($A9="","",((E9*'Reunion'!$B$3)+(F9*'Reunion'!$B$4))) | M9: =IF($A9="","",(L9-J9))
K10: =IF($A10="","",((E10+F10)+G10)) | L10: =IF($A10="","",((E10*'Reunion'!$B$3)+(F10*'Reunion'!$B$4))) | M10: =IF($A10="","",(L10-J10))
K11: =IF($A11="","",((E11+F11)+G11)) | L11: =IF($A11="","",((E11*'Reunion'!$B$3)+(F11*'Reunion'!$B$4))) | M11: =IF($A11="","",(L11-J11))
K12: =IF($A12="","",((E12+F12)+G12)) | L12: =IF($A12="","",((E12*'Reunion'!$B$3)+(F12*'Reunion'!$B$4))) | M12: =IF($A12="","",(L12-J12))
K13: =IF($A13="","",((E13+F13)+G13)) | L13: =IF($A13="","",((E13*'Reunion'!$B$3)+(F13*'Reunion'!$B$4))) | M13: =IF($A13="","",(L13-J13))
K14: =IF($A14="","",((E14+F14)+G14)) | L14: =IF($A14="","",((E14*'Reunion'!$B$3)+(F14*'Reunion'!$B$4))) | M14: =IF($A14="","",(L14-J14))
K15: =IF($A15="","",((E15+F15)+G15)) | L15: =IF($A15="","",((E15*'Reunion'!$B$3)+(F15*'Reunion'!$B$4))) | M15: =IF($A15="","",(L15-J15))
K16: =IF($A16="","",((E16+F16)+G16)) | L16: =IF($A16="","",((E16*'Reunion'!$B$3)+(F16*'Reunion'!$B$4))) | M16: =IF($A16="","",(L16-J16))
K17: =IF($A17="","",((E17+F17)+G17)) | L17: =IF($A17="","",((E17*'Reunion'!$B$3)+(F17*'Reunion'!$B$4))) | M17: =IF($A17="","",(L17-J17))
K18: =IF($A18="","",((E18+F18)+G18)) | L18: =IF($A18="","",((E18*'Reunion'!$B$3)+(F18*'Reunion'!$B$4))) | M18: =IF($A18="","",(L18-J18))
... K201: =IF($A201="","",((E201+F201)+G201)) | L201: =IF($A201="","",((E201*'Reunion'!$B$3)+(F201*'Reunion'!$B$4))) | M201: =IF($A201="","",(L201-J201))

Sheet Reunion
A1: Item | B1: Value | C1: Notes
A2: Pricing
A3: Adult price | B3: 40 | C3: Covers food, venue and shirts.
A4: Kid price | B4: 20
A5: Headcount
A6: Confirmed headcount | B6: =SUMIFS('Families'!$K$2:$K$201,'Families'!$D$2:$D$201,"Yes") -> 9
A7: Maybe / pending households | B7: =(COUNTIF('Families'!$D$2:$D$201,"Maybe")+COUNTIF('Families'!$D$2:$D$201,"Pending")) -> 2
A8: Money
A9: Collected | B9: =SUM('Families'!$J$2:$J$201) -> 160
A10: Still owed (confirmed) | B10: =SUMIFS('Families'!$M$2:$M$201,'Families'!$D$2:$D$201,"Yes") -> 100
