Workbook

Sheet How to use
B1: Print Quote Calculator
B2: A free quote calculator for commercial printers: price runs by quantity with stock, ink, finishing, and margin in Sheets or Excel.
B4: Quick start
A5: 1 | B5: Open the Quantity breaks tab and replace the sample rows with your own — one row per entry. Formulas fill in automatically for new rows.
A6: 2 | B6: Set the job specs on the Job tab; each quantity row shows cost, price and price each, so the breaks fall out by themselves.
A7: 3 | B7: Setup is spread over the run, which is why the price each drops at higher quantities.
A8: 4 | B8: Keep a backup copy before restructuring columns; renaming a header is safe, deleting a column used in formulas is not.
B10: Colour key
B11: Yellow cells: type your numbers here.
B12: Grey cells: calculated automatically. Leave them alone.
B13: Red highlight: overdue or below a limit. Needs attention.
B14: Amber highlight: getting close. Check soon.
B16: Sample rows are examples. Overwrite or delete them. Formulas extend to new rows automatically. Works in Excel and Google Sheets (File → Import).

Sheet Quantity breaks
A1: Quantity | B1: Sheets needed | C1: Paper | D1: Run cost | E1: Finishing | F1: Total cost | G1: Price | H1: Price each
A2: 250 | B2: =IF($A2="","",CEILING(((A2/'Job'!$B$4)*(1+'Job'!$B$5)),1)) -> 66 | C2: =IF($A2="","",(B2*'Job'!$B$6)) -> 10.56 | D2: =IF($A2="","",(B2*'Job'!$B$7)) -> 5.94 | E2: =IF($A2="","",(A2*'Job'!$B$8)) -> 2.5 | F2: =IF($A2="","",((('Job'!$B$9+C2)+D2)+E2)) -> 64 | G2: =IF($A2="","",CEILING((F2/(1-'Job'!$B$10)),5)) -> 120 | H2: =IF($A2="","",IFERROR((G2/A2),0)) -> 0.48
A3: 500 | B3: =IF($A3="","",CEILING(((A3/'Job'!$B$4)*(1+'Job'!$B$5)),1)) -> 132 | C3: =IF($A3="","",(B3*'Job'!$B$6)) -> 21.12 | D3: =IF($A3="","",(B3*'Job'!$B$7)) -> 11.88 | E3: =IF($A3="","",(A3*'Job'!$B$8)) -> 5 | F3: =IF($A3="","",((('Job'!$B$9+C3)+D3)+E3)) -> 83 | G3: =IF($A3="","",CEILING((F3/(1-'Job'!$B$10)),5)) -> 155 | H3: =IF($A3="","",IFERROR((G3/A3),0)) -> 0.31
A4: 1000 | B4: =IF($A4="","",CEILING(((A4/'Job'!$B$4)*(1+'Job'!$B$5)),1)) -> 263 | C4: =IF($A4="","",(B4*'Job'!$B$6)) -> 42.08 | D4: =IF($A4="","",(B4*'Job'!$B$7)) -> 23.67 | E4: =IF($A4="","",(A4*'Job'!$B$8)) -> 10 | F4: =IF($A4="","",((('Job'!$B$9+C4)+D4)+E4)) -> 120.75 | G4: =IF($A4="","",CEILING((F4/(1-'Job'!$B$10)),5)) -> 220 | H4: =IF($A4="","",IFERROR((G4/A4),0)) -> 0.22
A5: 2500 | B5: =IF($A5="","",CEILING(((A5/'Job'!$B$4)*(1+'Job'!$B$5)),1)) -> 657 | C5: =IF($A5="","",(B5*'Job'!$B$6)) -> 105.12 | D5: =IF($A5="","",(B5*'Job'!$B$7)) -> 59.13 | E5: =IF($A5="","",(A5*'Job'!$B$8)) -> 25 | F5: =IF($A5="","",((('Job'!$B$9+C5)+D5)+E5)) -> 234.25 | G5: =IF($A5="","",CEILING((F5/(1-'Job'!$B$10)),5)) -> 430 | H5: =IF($A5="","",IFERROR((G5/A5),0)) -> 0.172
A6: 5000 | B6: =IF($A6="","",CEILING(((A6/'Job'!$B$4)*(1+'Job'!$B$5)),1)) -> 1313 | C6: =IF($A6="","",(B6*'Job'!$B$6)) -> 210.08 | D6: =IF($A6="","",(B6*'Job'!$B$7)) -> 118.17 | E6: =IF($A6="","",(A6*'Job'!$B$8)) -> 50 | F6: =IF($A6="","",((('Job'!$B$9+C6)+D6)+E6)) -> 423.25 | G6: =IF($A6="","",CEILING((F6/(1-'Job'!$B$10)),5)) -> 770 | H6: =IF($A6="","",IFERROR((G6/A6),0)) -> 0.154
B7: =IF($A7="","",CEILING(((A7/'Job'!$B$4)*(1+'Job'!$B$5)),1)) | C7: =IF($A7="","",(B7*'Job'!$B$6)) | D7: =IF($A7="","",(B7*'Job'!$B$7)) | E7: =IF($A7="","",(A7*'Job'!$B$8)) | F7: =IF($A7="","",((('Job'!$B$9+C7)+D7)+E7)) | G7: =IF($A7="","",CEILING((F7/(1-'Job'!$B$10)),5)) | H7: =IF($A7="","",IFERROR((G7/A7),0))
B8: =IF($A8="","",CEILING(((A8/'Job'!$B$4)*(1+'Job'!$B$5)),1)) | C8: =IF($A8="","",(B8*'Job'!$B$6)) | D8: =IF($A8="","",(B8*'Job'!$B$7)) | E8: =IF($A8="","",(A8*'Job'!$B$8)) | F8: =IF($A8="","",((('Job'!$B$9+C8)+D8)+E8)) | G8: =IF($A8="","",CEILING((F8/(1-'Job'!$B$10)),5)) | H8: =IF($A8="","",IFERROR((G8/A8),0))
B9: =IF($A9="","",CEILING(((A9/'Job'!$B$4)*(1+'Job'!$B$5)),1)) | C9: =IF($A9="","",(B9*'Job'!$B$6)) | D9: =IF($A9="","",(B9*'Job'!$B$7)) | E9: =IF($A9="","",(A9*'Job'!$B$8)) | F9: =IF($A9="","",((('Job'!$B$9+C9)+D9)+E9)) | G9: =IF($A9="","",CEILING((F9/(1-'Job'!$B$10)),5)) | H9: =IF($A9="","",IFERROR((G9/A9),0))
B10: =IF($A10="","",CEILING(((A10/'Job'!$B$4)*(1+'Job'!$B$5)),1)) | C10: =IF($A10="","",(B10*'Job'!$B$6)) | D10: =IF($A10="","",(B10*'Job'!$B$7)) | E10: =IF($A10="","",(A10*'Job'!$B$8)) | F10: =IF($A10="","",((('Job'!$B$9+C10)+D10)+E10)) | G10: =IF($A10="","",CEILING((F10/(1-'Job'!$B$10)),5)) | H10: =IF($A10="","",IFERROR((G10/A10),0))
B11: =IF($A11="","",CEILING(((A11/'Job'!$B$4)*(1+'Job'!$B$5)),1)) | C11: =IF($A11="","",(B11*'Job'!$B$6)) | D11: =IF($A11="","",(B11*'Job'!$B$7)) | E11: =IF($A11="","",(A11*'Job'!$B$8)) | F11: =IF($A11="","",((('Job'!$B$9+C11)+D11)+E11)) | G11: =IF($A11="","",CEILING((F11/(1-'Job'!$B$10)),5)) | H11: =IF($A11="","",IFERROR((G11/A11),0))
B12: =IF($A12="","",CEILING(((A12/'Job'!$B$4)*(1+'Job'!$B$5)),1)) | C12: =IF($A12="","",(B12*'Job'!$B$6)) | D12: =IF($A12="","",(B12*'Job'!$B$7)) | E12: =IF($A12="","",(A12*'Job'!$B$8)) | F12: =IF($A12="","",((('Job'!$B$9+C12)+D12)+E12)) | G12: =IF($A12="","",CEILING((F12/(1-'Job'!$B$10)),5)) | H12: =IF($A12="","",IFERROR((G12/A12),0))
B13: =IF($A13="","",CEILING(((A13/'Job'!$B$4)*(1+'Job'!$B$5)),1)) | C13: =IF($A13="","",(B13*'Job'!$B$6)) | D13: =IF($A13="","",(B13*'Job'!$B$7)) | E13: =IF($A13="","",(A13*'Job'!$B$8)) | F13: =IF($A13="","",((('Job'!$B$9+C13)+D13)+E13)) | G13: =IF($A13="","",CEILING((F13/(1-'Job'!$B$10)),5)) | H13: =IF($A13="","",IFERROR((G13/A13),0))
B14: =IF($A14="","",CEILING(((A14/'Job'!$B$4)*(1+'Job'!$B$5)),1)) | C14: =IF($A14="","",(B14*'Job'!$B$6)) | D14: =IF($A14="","",(B14*'Job'!$B$7)) | E14: =IF($A14="","",(A14*'Job'!$B$8)) | F14: =IF($A14="","",((('Job'!$B$9+C14)+D14)+E14)) | G14: =IF($A14="","",CEILING((F14/(1-'Job'!$B$10)),5)) | H14: =IF($A14="","",IFERROR((G14/A14),0))
B15: =IF($A15="","",CEILING(((A15/'Job'!$B$4)*(1+'Job'!$B$5)),1)) | C15: =IF($A15="","",(B15*'Job'!$B$6)) | D15: =IF($A15="","",(B15*'Job'!$B$7)) | E15: =IF($A15="","",(A15*'Job'!$B$8)) | F15: =IF($A15="","",((('Job'!$B$9+C15)+D15)+E15)) | G15: =IF($A15="","",CEILING((F15/(1-'Job'!$B$10)),5)) | H15: =IF($A15="","",IFERROR((G15/A15),0))
B16: =IF($A16="","",CEILING(((A16/'Job'!$B$4)*(1+'Job'!$B$5)),1)) | C16: =IF($A16="","",(B16*'Job'!$B$6)) | D16: =IF($A16="","",(B16*'Job'!$B$7)) | E16: =IF($A16="","",(A16*'Job'!$B$8)) | F16: =IF($A16="","",((('Job'!$B$9+C16)+D16)+E16)) | G16: =IF($A16="","",CEILING((F16/(1-'Job'!$B$10)),5)) | H16: =IF($A16="","",IFERROR((G16/A16),0))
B17: =IF($A17="","",CEILING(((A17/'Job'!$B$4)*(1+'Job'!$B$5)),1)) | C17: =IF($A17="","",(B17*'Job'!$B$6)) | D17: =IF($A17="","",(B17*'Job'!$B$7)) | E17: =IF($A17="","",(A17*'Job'!$B$8)) | F17: =IF($A17="","",((('Job'!$B$9+C17)+D17)+E17)) | G17: =IF($A17="","",CEILING((F17/(1-'Job'!$B$10)),5)) | H17: =IF($A17="","",IFERROR((G17/A17),0))
B18: =IF($A18="","",CEILING(((A18/'Job'!$B$4)*(1+'Job'!$B$5)),1)) | C18: =IF($A18="","",(B18*'Job'!$B$6)) | D18: =IF($A18="","",(B18*'Job'!$B$7)) | E18: =IF($A18="","",(A18*'Job'!$B$8)) | F18: =IF($A18="","",((('Job'!$B$9+C18)+D18)+E18)) | G18: =IF($A18="","",CEILING((F18/(1-'Job'!$B$10)),5)) | H18: =IF($A18="","",IFERROR((G18/A18),0))
... B201: =IF($A201="","",CEILING(((A201/'Job'!$B$4)*(1+'Job'!$B$5)),1)) | C201: =IF($A201="","",(B201*'Job'!$B$6)) | D201: =IF($A201="","",(B201*'Job'!$B$7)) | E201: =IF($A201="","",(A201*'Job'!$B$8)) | F201: =IF($A201="","",((('Job'!$B$9+C201)+D201)+E201)) | G201: =IF($A201="","",CEILING((F201/(1-'Job'!$B$10)),5)) | H201: =IF($A201="","",IFERROR((G201/A201),0))

Sheet Job
A1: Item | B1: Value | C1: Notes
A2: Job
A3: Job | B3: Postcard 6x9, 4/4 on 14 pt gloss
A4: Up per sheet | B4: 4 | C4: Pieces per press sheet (13x19).
A5: Spoilage | B5: 0.05
A6: Stock cost per sheet | B6: 0.16
A7: Click / run cost per sheet | B7: 0.09
A8: Finishing per piece | B8: 0.01 | C8: Cutting, coating, folding.
A9: Setup | B9: 45 | C9: Prepress, proof, makeready.
A10: Target margin | B10: 0.45
