Workbook

Sheet How to use
B1: Pet Business Schedule
B2: A free pet business schedule spreadsheet: plan daily visits by client and time with route grouping and status, in Google Sheets and Excel.
B4: Quick start
A5: 1 | B5: Open the Visits tab and replace the sample rows with your own — one row per entry. Formulas fill in automatically for new rows.
A6: 2 | B6: Group each sitter's day by Route to cut driving. Conflict flags visits that overlap for the same sitter.
A7: 3 | B7: Mark visits Done as you go; filter Date + Sitter to send each sitter their schedule.
A8: 4 | B8: Keep a backup copy before restructuring columns; renaming a header is safe, deleting a column used in formulas is not.
B10: Colour key
B11: Yellow cells: type your numbers here.
B12: Grey cells: calculated automatically. Leave them alone.
B13: Red highlight: overdue or below a limit. Needs attention.
B14: Amber highlight: getting close. Check soon.
B16: Sample rows are examples. Overwrite or delete them. Formulas extend to new rows automatically. Works in Excel and Google Sheets (File → Import).

Sheet Visits
A1: Date | B1: Start | C1: Client | D1: Pet(s) | E1: Service | F1: Sitter | G1: Route | H1: Minutes | I1: Status | J1: End | K1: Start (min of day) | L1: End (min of day) | M1: Conflict
A2: 46309 | B2: 0.33333333 | C2: Benson | D2: Max | E2: Walk – 30 min | F2: Jess | G2: North | H2: 30 | I2: Scheduled | J2: =IF($A2="","",(B2+(H2/1440))) -> 0.35416667 | K2: =IF($A2="","",ROUND((B2*1440),0)) -> 480 | L2: =IF($A2="","",(ROUND((B2*1440),0)+H2)) -> 510 | M2: =IF($A2="","",IF((I2="Cancelled"),"",IF((COUNTIFS('Visits'!$A$2:$A$201,A2,'Visits'!$F$2:$F$201,F2,'Visits'!$K$2:$K$201,("<"&L2),'Visits'!$L$2:$L$201,(">"&K2),'Visits'!$I$2:$I$201,"<>Cancelled")>1),"Sitter double-booked","")))
A3: 46309 | B3: 0.36458333 | C3: Ruiz | D3: Luna + Coco | E3: Walk – 60 min | F3: Jess | G3: North | H3: 60 | I3: Scheduled | J3: =IF($A3="","",(B3+(H3/1440))) -> 0.40625 | K3: =IF($A3="","",ROUND((B3*1440),0)) -> 525 | L3: =IF($A3="","",(ROUND((B3*1440),0)+H3)) -> 585 | M3: =IF($A3="","",IF((I3="Cancelled"),"",IF((COUNTIFS('Visits'!$A$2:$A$201,A3,'Visits'!$F$2:$F$201,F3,'Visits'!$K$2:$K$201,("<"&L3),'Visits'!$L$2:$L$201,(">"&K3),'Visits'!$I$2:$I$201,"<>Cancelled")>1),"Sitter double-booked",""))) -> Sitter double-booked
A4: 46309 | B4: 0.39583333 | C4: Chen | D4: Pepper (cat) | E4: Drop-in visit | F4: Jess | G4: Central | H4: 20 | I4: Scheduled | J4: =IF($A4="","",(B4+(H4/1440))) -> 0.40972222 | K4: =IF($A4="","",ROUND((B4*1440),0)) -> 570 | L4: =IF($A4="","",(ROUND((B4*1440),0)+H4)) -> 590 | M4: =IF($A4="","",IF((I4="Cancelled"),"",IF((COUNTIFS('Visits'!$A$2:$A$201,A4,'Visits'!$F$2:$F$201,F4,'Visits'!$K$2:$K$201,("<"&L4),'Visits'!$L$2:$L$201,(">"&K4),'Visits'!$I$2:$I$201,"<>Cancelled")>1),"Sitter double-booked",""))) -> Sitter double-booked
A5: 46309 | B5: 0.5 | C5: Okoro | D5: Duke | E5: Walk – 30 min | F5: Marco | G5: Central | H5: 30 | I5: Scheduled | J5: =IF($A5="","",(B5+(H5/1440))) -> 0.52083333 | K5: =IF($A5="","",ROUND((B5*1440),0)) -> 720 | L5: =IF($A5="","",(ROUND((B5*1440),0)+H5)) -> 750 | M5: =IF($A5="","",IF((I5="Cancelled"),"",IF((COUNTIFS('Visits'!$A$2:$A$201,A5,'Visits'!$F$2:$F$201,F5,'Visits'!$K$2:$K$201,("<"&L5),'Visits'!$L$2:$L$201,(">"&K5),'Visits'!$I$2:$I$201,"<>Cancelled")>1),"Sitter double-booked",""))) -> Sitter double-booked
A6: 46309 | B6: 0.51041667 | C6: Walsh | D6: Bella | E6: Walk – 30 min | F6: Marco | G6: South | H6: 30 | I6: Scheduled | J6: =IF($A6="","",(B6+(H6/1440))) -> 0.53125 | K6: =IF($A6="","",ROUND((B6*1440),0)) -> 735 | L6: =IF($A6="","",(ROUND((B6*1440),0)+H6)) -> 765 | M6: =IF($A6="","",IF((I6="Cancelled"),"",IF((COUNTIFS('Visits'!$A$2:$A$201,A6,'Visits'!$F$2:$F$201,F6,'Visits'!$K$2:$K$201,("<"&L6),'Visits'!$L$2:$L$201,(">"&K6),'Visits'!$I$2:$I$201,"<>Cancelled")>1),"Sitter double-booked",""))) -> Sitter double-booked
A7: 46308 | B7: 0.75 | C7: Grant | D7: Ziggy | E7: Overnight | F7: Tia | G7: South | H7: 720 | I7: Scheduled | J7: =IF($A7="","",(B7+(H7/1440))) -> 1.25 | K7: =IF($A7="","",ROUND((B7*1440),0)) -> 1080 | L7: =IF($A7="","",(ROUND((B7*1440),0)+H7)) -> 1800 | M7: =IF($A7="","",IF((I7="Cancelled"),"",IF((COUNTIFS('Visits'!$A$2:$A$201,A7,'Visits'!$F$2:$F$201,F7,'Visits'!$K$2:$K$201,("<"&L7),'Visits'!$L$2:$L$201,(">"&K7),'Visits'!$I$2:$I$201,"<>Cancelled")>1),"Sitter double-booked","")))
J8: =IF($A8="","",(B8+(H8/1440))) | K8: =IF($A8="","",ROUND((B8*1440),0)) | L8: =IF($A8="","",(ROUND((B8*1440),0)+H8)) | M8: =IF($A8="","",IF((I8="Cancelled"),"",IF((COUNTIFS('Visits'!$A$2:$A$201,A8,'Visits'!$F$2:$F$201,F8,'Visits'!$K$2:$K$201,("<"&L8),'Visits'!$L$2:$L$201,(">"&K8),'Visits'!$I$2:$I$201,"<>Cancelled")>1),"Sitter double-booked","")))
J9: =IF($A9="","",(B9+(H9/1440))) | K9: =IF($A9="","",ROUND((B9*1440),0)) | L9: =IF($A9="","",(ROUND((B9*1440),0)+H9)) | M9: =IF($A9="","",IF((I9="Cancelled"),"",IF((COUNTIFS('Visits'!$A$2:$A$201,A9,'Visits'!$F$2:$F$201,F9,'Visits'!$K$2:$K$201,("<"&L9),'Visits'!$L$2:$L$201,(">"&K9),'Visits'!$I$2:$I$201,"<>Cancelled")>1),"Sitter double-booked","")))
J10: =IF($A10="","",(B10+(H10/1440))) | K10: =IF($A10="","",ROUND((B10*1440),0)) | L10: =IF($A10="","",(ROUND((B10*1440),0)+H10)) | M10: =IF($A10="","",IF((I10="Cancelled"),"",IF((COUNTIFS('Visits'!$A$2:$A$201,A10,'Visits'!$F$2:$F$201,F10,'Visits'!$K$2:$K$201,("<"&L10),'Visits'!$L$2:$L$201,(">"&K10),'Visits'!$I$2:$I$201,"<>Cancelled")>1),"Sitter double-booked","")))
J11: =IF($A11="","",(B11+(H11/1440))) | K11: =IF($A11="","",ROUND((B11*1440),0)) | L11: =IF($A11="","",(ROUND((B11*1440),0)+H11)) | M11: =IF($A11="","",IF((I11="Cancelled"),"",IF((COUNTIFS('Visits'!$A$2:$A$201,A11,'Visits'!$F$2:$F$201,F11,'Visits'!$K$2:$K$201,("<"&L11),'Visits'!$L$2:$L$201,(">"&K11),'Visits'!$I$2:$I$201,"<>Cancelled")>1),"Sitter double-booked","")))
J12: =IF($A12="","",(B12+(H12/1440))) | K12: =IF($A12="","",ROUND((B12*1440),0)) | L12: =IF($A12="","",(ROUND((B12*1440),0)+H12)) | M12: =IF($A12="","",IF((I12="Cancelled"),"",IF((COUNTIFS('Visits'!$A$2:$A$201,A12,'Visits'!$F$2:$F$201,F12,'Visits'!$K$2:$K$201,("<"&L12),'Visits'!$L$2:$L$201,(">"&K12),'Visits'!$I$2:$I$201,"<>Cancelled")>1),"Sitter double-booked","")))
J13: =IF($A13="","",(B13+(H13/1440))) | K13: =IF($A13="","",ROUND((B13*1440),0)) | L13: =IF($A13="","",(ROUND((B13*1440),0)+H13)) | M13: =IF($A13="","",IF((I13="Cancelled"),"",IF((COUNTIFS('Visits'!$A$2:$A$201,A13,'Visits'!$F$2:$F$201,F13,'Visits'!$K$2:$K$201,("<"&L13),'Visits'!$L$2:$L$201,(">"&K13),'Visits'!$I$2:$I$201,"<>Cancelled")>1),"Sitter double-booked","")))
J14: =IF($A14="","",(B14+(H14/1440))) | K14: =IF($A14="","",ROUND((B14*1440),0)) | L14: =IF($A14="","",(ROUND((B14*1440),0)+H14)) | M14: =IF($A14="","",IF((I14="Cancelled"),"",IF((COUNTIFS('Visits'!$A$2:$A$201,A14,'Visits'!$F$2:$F$201,F14,'Visits'!$K$2:$K$201,("<"&L14),'Visits'!$L$2:$L$201,(">"&K14),'Visits'!$I$2:$I$201,"<>Cancelled")>1),"Sitter double-booked","")))
J15: =IF($A15="","",(B15+(H15/1440))) | K15: =IF($A15="","",ROUND((B15*1440),0)) | L15: =IF($A15="","",(ROUND((B15*1440),0)+H15)) | M15: =IF($A15="","",IF((I15="Cancelled"),"",IF((COUNTIFS('Visits'!$A$2:$A$201,A15,'Visits'!$F$2:$F$201,F15,'Visits'!$K$2:$K$201,("<"&L15),'Visits'!$L$2:$L$201,(">"&K15),'Visits'!$I$2:$I$201,"<>Cancelled")>1),"Sitter double-booked","")))
J16: =IF($A16="","",(B16+(H16/1440))) | K16: =IF($A16="","",ROUND((B16*1440),0)) | L16: =IF($A16="","",(ROUND((B16*1440),0)+H16)) | M16: =IF($A16="","",IF((I16="Cancelled"),"",IF((COUNTIFS('Visits'!$A$2:$A$201,A16,'Visits'!$F$2:$F$201,F16,'Visits'!$K$2:$K$201,("<"&L16),'Visits'!$L$2:$L$201,(">"&K16),'Visits'!$I$2:$I$201,"<>Cancelled")>1),"Sitter double-booked","")))
J17: =IF($A17="","",(B17+(H17/1440))) | K17: =IF($A17="","",ROUND((B17*1440),0)) | L17: =IF($A17="","",(ROUND((B17*1440),0)+H17)) | M17: =IF($A17="","",IF((I17="Cancelled"),"",IF((COUNTIFS('Visits'!$A$2:$A$201,A17,'Visits'!$F$2:$F$201,F17,'Visits'!$K$2:$K$201,("<"&L17),'Visits'!$L$2:$L$201,(">"&K17),'Visits'!$I$2:$I$201,"<>Cancelled")>1),"Sitter double-booked","")))
J18: =IF($A18="","",(B18+(H18/1440))) | K18: =IF($A18="","",ROUND((B18*1440),0)) | L18: =IF($A18="","",(ROUND((B18*1440),0)+H18)) | M18: =IF($A18="","",IF((I18="Cancelled"),"",IF((COUNTIFS('Visits'!$A$2:$A$201,A18,'Visits'!$F$2:$F$201,F18,'Visits'!$K$2:$K$201,("<"&L18),'Visits'!$L$2:$L$201,(">"&K18),'Visits'!$I$2:$I$201,"<>Cancelled")>1),"Sitter double-booked","")))
J19: =IF($A19="","",(B19+(H19/1440))) | K19: =IF($A19="","",ROUND((B19*1440),0)) | L19: =IF($A19="","",(ROUND((B19*1440),0)+H19)) | M19: =IF($A19="","",IF((I19="Cancelled"),"",IF((COUNTIFS('Visits'!$A$2:$A$201,A19,'Visits'!$F$2:$F$201,F19,'Visits'!$K$2:$K$201,("<"&L19),'Visits'!$L$2:$L$201,(">"&K19),'Visits'!$I$2:$I$201,"<>Cancelled")>1),"Sitter double-booked","")))
... J201: =IF($A201="","",(B201+(H201/1440))) | K201: =IF($A201="","",ROUND((B201*1440),0)) | L201: =IF($A201="","",(ROUND((B201*1440),0)+H201)) | M201: =IF($A201="","",IF((I201="Cancelled"),"",IF((COUNTIFS('Visits'!$A$2:$A$201,A201,'Visits'!$F$2:$F$201,F201,'Visits'!$K$2:$K$201,("<"&L201),'Visits'!$L$2:$L$201,(">"&K201),'Visits'!$I$2:$I$201,"<>Cancelled")>1),"Sitter double-booked","")))
