Workbook

Sheet How to use
B1: Ghost Kitchen Menu Cost Calculator
B2: A free menu cost calculator for ghost kitchens: price items after ingredient cost and delivery commission in Google Sheets or Excel.
B4: Quick start
A5: 1 | B5: Open the Menu tab and replace the sample rows with your own — one row per entry. Formulas fill in automatically for new rows.
A6: 2 | B6: Platform commission (Settings) comes off every order; Profit per order shows what is left after food, packaging and the app fee.
A7: 3 | B7: Food cost % turns amber above target. Raise in-app prices on red items or trim the portion.
A8: 4 | B8: Keep a backup copy before restructuring columns; renaming a header is safe, deleting a column used in formulas is not.
B10: Colour key
B11: Yellow cells: type your numbers here.
B12: Grey cells: calculated automatically. Leave them alone.
B13: Red highlight: overdue or below a limit. Needs attention.
B14: Amber highlight: getting close. Check soon.
B16: Sample rows are examples. Overwrite or delete them. Formulas extend to new rows automatically. Works in Excel and Google Sheets (File → Import).

Sheet Menu
A1: Menu item | B1: Ingredient cost | C1: Packaging | D1: Menu price | E1: Plate cost | F1: Platform fee | G1: Profit per order | H1: Food cost % | I1: Price at target
A2: Smash burger combo | B2: 3.95 | C2: 0.6 | D2: 15.99 | E2: =IF($A2="","",(B2+C2)) -> 4.55 | F2: =IF($A2="","",ROUND((D2*'Settings'!$B$4),2)) -> 4 | G2: =IF($A2="","",((D2-E2)-F2)) -> 7.44 | H2: =IF($A2="","",IFERROR((E2/D2),0)) -> 0.28455285 | I2: =IF($A2="","",CEILING((E2/'Settings'!$B$3),0.25)) -> 16.25
A3: Chicken tender basket | B3: 3.2 | C3: 0.55 | D3: 13.99 | E3: =IF($A3="","",(B3+C3)) -> 3.75 | F3: =IF($A3="","",ROUND((D3*'Settings'!$B$4),2)) -> 3.5 | G3: =IF($A3="","",((D3-E3)-F3)) -> 6.74 | H3: =IF($A3="","",IFERROR((E3/D3),0)) -> 0.26804861 | I3: =IF($A3="","",CEILING((E3/'Settings'!$B$3),0.25)) -> 13.5
A4: Truffle fries | B4: 1.1 | C4: 0.35 | D4: 6.99 | E4: =IF($A4="","",(B4+C4)) -> 1.45 | F4: =IF($A4="","",ROUND((D4*'Settings'!$B$4),2)) -> 1.75 | G4: =IF($A4="","",((D4-E4)-F4)) -> 3.79 | H4: =IF($A4="","",IFERROR((E4/D4),0)) -> 0.2074392 | I4: =IF($A4="","",CEILING((E4/'Settings'!$B$3),0.25)) -> 5.25
A5: Wings (10) | B5: 4.6 | C5: 0.5 | D5: 15.49 | E5: =IF($A5="","",(B5+C5)) -> 5.1 | F5: =IF($A5="","",ROUND((D5*'Settings'!$B$4),2)) -> 3.87 | G5: =IF($A5="","",((D5-E5)-F5)) -> 6.52 | H5: =IF($A5="","",IFERROR((E5/D5),0)) -> 0.32924467 | I5: =IF($A5="","",CEILING((E5/'Settings'!$B$3),0.25)) -> 18.25
A6: Shake | B6: 1.35 | C6: 0.45 | D6: 6.49 | E6: =IF($A6="","",(B6+C6)) -> 1.8 | F6: =IF($A6="","",ROUND((D6*'Settings'!$B$4),2)) -> 1.62 | G6: =IF($A6="","",((D6-E6)-F6)) -> 3.07 | H6: =IF($A6="","",IFERROR((E6/D6),0)) -> 0.27734977 | I6: =IF($A6="","",CEILING((E6/'Settings'!$B$3),0.25)) -> 6.5
E7: =IF($A7="","",(B7+C7)) | F7: =IF($A7="","",ROUND((D7*'Settings'!$B$4),2)) | G7: =IF($A7="","",((D7-E7)-F7)) | H7: =IF($A7="","",IFERROR((E7/D7),0)) | I7: =IF($A7="","",CEILING((E7/'Settings'!$B$3),0.25))
E8: =IF($A8="","",(B8+C8)) | F8: =IF($A8="","",ROUND((D8*'Settings'!$B$4),2)) | G8: =IF($A8="","",((D8-E8)-F8)) | H8: =IF($A8="","",IFERROR((E8/D8),0)) | I8: =IF($A8="","",CEILING((E8/'Settings'!$B$3),0.25))
E9: =IF($A9="","",(B9+C9)) | F9: =IF($A9="","",ROUND((D9*'Settings'!$B$4),2)) | G9: =IF($A9="","",((D9-E9)-F9)) | H9: =IF($A9="","",IFERROR((E9/D9),0)) | I9: =IF($A9="","",CEILING((E9/'Settings'!$B$3),0.25))
E10: =IF($A10="","",(B10+C10)) | F10: =IF($A10="","",ROUND((D10*'Settings'!$B$4),2)) | G10: =IF($A10="","",((D10-E10)-F10)) | H10: =IF($A10="","",IFERROR((E10/D10),0)) | I10: =IF($A10="","",CEILING((E10/'Settings'!$B$3),0.25))
E11: =IF($A11="","",(B11+C11)) | F11: =IF($A11="","",ROUND((D11*'Settings'!$B$4),2)) | G11: =IF($A11="","",((D11-E11)-F11)) | H11: =IF($A11="","",IFERROR((E11/D11),0)) | I11: =IF($A11="","",CEILING((E11/'Settings'!$B$3),0.25))
E12: =IF($A12="","",(B12+C12)) | F12: =IF($A12="","",ROUND((D12*'Settings'!$B$4),2)) | G12: =IF($A12="","",((D12-E12)-F12)) | H12: =IF($A12="","",IFERROR((E12/D12),0)) | I12: =IF($A12="","",CEILING((E12/'Settings'!$B$3),0.25))
E13: =IF($A13="","",(B13+C13)) | F13: =IF($A13="","",ROUND((D13*'Settings'!$B$4),2)) | G13: =IF($A13="","",((D13-E13)-F13)) | H13: =IF($A13="","",IFERROR((E13/D13),0)) | I13: =IF($A13="","",CEILING((E13/'Settings'!$B$3),0.25))
E14: =IF($A14="","",(B14+C14)) | F14: =IF($A14="","",ROUND((D14*'Settings'!$B$4),2)) | G14: =IF($A14="","",((D14-E14)-F14)) | H14: =IF($A14="","",IFERROR((E14/D14),0)) | I14: =IF($A14="","",CEILING((E14/'Settings'!$B$3),0.25))
E15: =IF($A15="","",(B15+C15)) | F15: =IF($A15="","",ROUND((D15*'Settings'!$B$4),2)) | G15: =IF($A15="","",((D15-E15)-F15)) | H15: =IF($A15="","",IFERROR((E15/D15),0)) | I15: =IF($A15="","",CEILING((E15/'Settings'!$B$3),0.25))
E16: =IF($A16="","",(B16+C16)) | F16: =IF($A16="","",ROUND((D16*'Settings'!$B$4),2)) | G16: =IF($A16="","",((D16-E16)-F16)) | H16: =IF($A16="","",IFERROR((E16/D16),0)) | I16: =IF($A16="","",CEILING((E16/'Settings'!$B$3),0.25))
E17: =IF($A17="","",(B17+C17)) | F17: =IF($A17="","",ROUND((D17*'Settings'!$B$4),2)) | G17: =IF($A17="","",((D17-E17)-F17)) | H17: =IF($A17="","",IFERROR((E17/D17),0)) | I17: =IF($A17="","",CEILING((E17/'Settings'!$B$3),0.25))
E18: =IF($A18="","",(B18+C18)) | F18: =IF($A18="","",ROUND((D18*'Settings'!$B$4),2)) | G18: =IF($A18="","",((D18-E18)-F18)) | H18: =IF($A18="","",IFERROR((E18/D18),0)) | I18: =IF($A18="","",CEILING((E18/'Settings'!$B$3),0.25))
... E201: =IF($A201="","",(B201+C201)) | F201: =IF($A201="","",ROUND((D201*'Settings'!$B$4),2)) | G201: =IF($A201="","",((D201-E201)-F201)) | H201: =IF($A201="","",IFERROR((E201/D201),0)) | I201: =IF($A201="","",CEILING((E201/'Settings'!$B$3),0.25))

Sheet Settings
A1: Item | B1: Value | C1: Notes
A2: Targets
A3: Target food cost % | B3: 0.28 | C3: Plate cost as a share of menu price.
A4: Platform commission | B4: 0.25 | C4: Delivery app commission on each order.
