Workbook

Sheet How to use
B1: Fish Farm Water Quality Log
B2: A free water quality log for fish farms: record temp, DO, pH, and ammonia by tank with out-of-range flags in Google Sheets or Excel.
B4: Quick start
A5: 1 | B5: Open the Readings tab and replace the sample rows with your own — one row per entry. Formulas fill in automatically for new rows.
A6: 2 | B6: Take readings at dawn (lowest oxygen) and record action taken; out-of-range rows turn red.
A7: 3 | B7: Set limits for your species with your extension specialist or vet; these are general starting points.
A8: 4 | B8: Keep a backup copy before restructuring columns; renaming a header is safe, deleting a column used in formulas is not.
B10: Colour key
B11: Yellow cells: type your numbers here.
B12: Grey cells: calculated automatically. Leave them alone.
B13: Red highlight: overdue or below a limit. Needs attention.
B14: Amber highlight: getting close. Check soon.
B16: Sample rows are examples. Overwrite or delete them. Formulas extend to new rows automatically. Works in Excel and Google Sheets (File → Import).

Sheet Readings
A1: Date | B1: Time | C1: Tank / pond | D1: Temp (F) | E1: Dissolved oxygen (mg/L) | F1: pH | G1: Ammonia (mg/L) | H1: Nitrite (mg/L) | I1: Initials | J1: Action taken | K1: Check
A2: 46307 | B2: 0.25 | C2: Raceway 1 | D2: 54 | E2: 8.2 | F2: 7.4 | G2: 0.02 | H2: 0.05 | I2: MR | K2: =IF($A2="","",IF(OR((E2<'Limits'!$B$3),(F2<'Limits'!$B$4),(F2>'Limits'!$B$5),(G2>'Limits'!$B$6),(H2>'Limits'!$B$7)),"Out of range","OK")) -> OK
A3: 46307 | B3: 0.25 | C3: Raceway 2 | D3: 55 | E3: 7.9 | F3: 7.5 | G3: 0.03 | H3: 0.04 | I3: MR | K3: =IF($A3="","",IF(OR((E3<'Limits'!$B$3),(F3<'Limits'!$B$4),(F3>'Limits'!$B$5),(G3>'Limits'!$B$6),(H3>'Limits'!$B$7)),"Out of range","OK")) -> OK
A4: 46307 | B4: 0.25694444 | C4: Pond 3 | D4: 72 | E4: 4.2 | F4: 8.1 | G4: 0.4 | H4: 0.1 | I4: MR | J4: Aerator on, feeding cut 50% | K4: =IF($A4="","",IF(OR((E4<'Limits'!$B$3),(F4<'Limits'!$B$4),(F4>'Limits'!$B$5),(G4>'Limits'!$B$6),(H4>'Limits'!$B$7)),"Out of range","OK")) -> Out of range
A5: 46308 | B5: 0.25 | C5: Raceway 1 | D5: 54 | E5: 8.4 | F5: 7.4 | G5: 0.02 | H5: 0.03 | I5: JS | K5: =IF($A5="","",IF(OR((E5<'Limits'!$B$3),(F5<'Limits'!$B$4),(F5>'Limits'!$B$5),(G5>'Limits'!$B$6),(H5>'Limits'!$B$7)),"Out of range","OK")) -> OK
A6: 46308 | B6: 0.25694444 | C6: Pond 3 | D6: 71 | E6: 5.6 | F6: 7.9 | G6: 0.2 | H6: 0.06 | I6: JS | K6: =IF($A6="","",IF(OR((E6<'Limits'!$B$3),(F6<'Limits'!$B$4),(F6>'Limits'!$B$5),(G6>'Limits'!$B$6),(H6>'Limits'!$B$7)),"Out of range","OK")) -> Out of range
K7: =IF($A7="","",IF(OR((E7<'Limits'!$B$3),(F7<'Limits'!$B$4),(F7>'Limits'!$B$5),(G7>'Limits'!$B$6),(H7>'Limits'!$B$7)),"Out of range","OK"))
K8: =IF($A8="","",IF(OR((E8<'Limits'!$B$3),(F8<'Limits'!$B$4),(F8>'Limits'!$B$5),(G8>'Limits'!$B$6),(H8>'Limits'!$B$7)),"Out of range","OK"))
K9: =IF($A9="","",IF(OR((E9<'Limits'!$B$3),(F9<'Limits'!$B$4),(F9>'Limits'!$B$5),(G9>'Limits'!$B$6),(H9>'Limits'!$B$7)),"Out of range","OK"))
K10: =IF($A10="","",IF(OR((E10<'Limits'!$B$3),(F10<'Limits'!$B$4),(F10>'Limits'!$B$5),(G10>'Limits'!$B$6),(H10>'Limits'!$B$7)),"Out of range","OK"))
K11: =IF($A11="","",IF(OR((E11<'Limits'!$B$3),(F11<'Limits'!$B$4),(F11>'Limits'!$B$5),(G11>'Limits'!$B$6),(H11>'Limits'!$B$7)),"Out of range","OK"))
K12: =IF($A12="","",IF(OR((E12<'Limits'!$B$3),(F12<'Limits'!$B$4),(F12>'Limits'!$B$5),(G12>'Limits'!$B$6),(H12>'Limits'!$B$7)),"Out of range","OK"))
K13: =IF($A13="","",IF(OR((E13<'Limits'!$B$3),(F13<'Limits'!$B$4),(F13>'Limits'!$B$5),(G13>'Limits'!$B$6),(H13>'Limits'!$B$7)),"Out of range","OK"))
K14: =IF($A14="","",IF(OR((E14<'Limits'!$B$3),(F14<'Limits'!$B$4),(F14>'Limits'!$B$5),(G14>'Limits'!$B$6),(H14>'Limits'!$B$7)),"Out of range","OK"))
K15: =IF($A15="","",IF(OR((E15<'Limits'!$B$3),(F15<'Limits'!$B$4),(F15>'Limits'!$B$5),(G15>'Limits'!$B$6),(H15>'Limits'!$B$7)),"Out of range","OK"))
K16: =IF($A16="","",IF(OR((E16<'Limits'!$B$3),(F16<'Limits'!$B$4),(F16>'Limits'!$B$5),(G16>'Limits'!$B$6),(H16>'Limits'!$B$7)),"Out of range","OK"))
K17: =IF($A17="","",IF(OR((E17<'Limits'!$B$3),(F17<'Limits'!$B$4),(F17>'Limits'!$B$5),(G17>'Limits'!$B$6),(H17>'Limits'!$B$7)),"Out of range","OK"))
K18: =IF($A18="","",IF(OR((E18<'Limits'!$B$3),(F18<'Limits'!$B$4),(F18>'Limits'!$B$5),(G18>'Limits'!$B$6),(H18>'Limits'!$B$7)),"Out of range","OK"))
... K201: =IF($A201="","",IF(OR((E201<'Limits'!$B$3),(F201<'Limits'!$B$4),(F201>'Limits'!$B$5),(G201>'Limits'!$B$6),(H201>'Limits'!$B$7)),"Out of range","OK"))

Sheet Limits
A1: Item | B1: Value | C1: Notes
A2: Limits
A3: Min DO | B3: 5 | C3: mg/L; set per species (trout need more).
A4: Min pH | B4: 6.5
A5: Max pH | B5: 8.5
A6: Max ammonia | B6: 0.05 | C6: Un-ionized ammonia guideline varies with pH and temp.
A7: Max nitrite | B7: 0.1
A8: Log
A9: Out-of-range readings | B9: =COUNTIF('Readings'!$K$2:$K$201,"Out of range") -> 2
