Workbook

Sheet How to use
B1: Energy Audit Report Pricing
B2: A free pricing sheet for home energy auditors: price audits by type, home size, and travel with margin in Google Sheets or Excel.
B4: Quick start
A5: 1 | B5: Open the Audit types tab and replace the sample rows with your own — one row per entry. Formulas fill in automatically for new rows.
A6: 2 | B6: Set home size and your costs on the Inputs tab; each audit type then shows hours, cost and price.
A7: 3 | B7: Customer pays after rebate subtracts the utility program rebate, which is what most homeowners compare.
A8: 4 | B8: Keep a backup copy before restructuring columns; renaming a header is safe, deleting a column used in formulas is not.
B10: Colour key
B11: Yellow cells: type your numbers here.
B12: Grey cells: calculated automatically. Leave them alone.
B13: Red highlight: overdue or below a limit. Needs attention.
B14: Amber highlight: getting close. Check soon.
B16: Sample rows are examples. Overwrite or delete them. Formulas extend to new rows automatically. Works in Excel and Google Sheets (File → Import).

Sheet Audit types
A1: Audit type | B1: Base hours | C1: Hours per 1,000 sq ft | D1: Equipment fee | E1: Hours | F1: Cost | G1: Price | H1: Customer pays after rebate
A2: Walk-through assessment | B2: 1 | C2: 0.25 | D2: 0 | E2: =IF($A2="","",(B2+((C2*'Inputs'!$B$3)/1000))) -> 1.55 | F2: =IF($A2="","",(((E2*'Inputs'!$B$5)+D2)+'Inputs'!$B$6)) -> 110.25 | G2: =IF($A2="","",CEILING((F2/(1-'Inputs'!$B$7)),25)) -> 175 | H2: =IF($A2="","",MAX(0,(G2-'Inputs'!$B$8))) -> 25
A3: Comprehensive audit (blower door + IR) | B3: 2 | C3: 0.6 | D3: 45 | E3: =IF($A3="","",(B3+((C3*'Inputs'!$B$3)/1000))) -> 3.32 | F3: =IF($A3="","",(((E3*'Inputs'!$B$5)+D3)+'Inputs'!$B$6)) -> 252.6 | G3: =IF($A3="","",CEILING((F3/(1-'Inputs'!$B$7)),25)) -> 400 | H3: =IF($A3="","",MAX(0,(G3-'Inputs'!$B$8))) -> 250
A4: HERS rating | B4: 2.5 | C4: 0.75 | D4: 60 | E4: =IF($A4="","",(B4+((C4*'Inputs'!$B$3)/1000))) -> 4.15 | F4: =IF($A4="","",(((E4*'Inputs'!$B$5)+D4)+'Inputs'!$B$6)) -> 313.25 | G4: =IF($A4="","",CEILING((F4/(1-'Inputs'!$B$7)),25)) -> 500 | H4: =IF($A4="","",MAX(0,(G4-'Inputs'!$B$8))) -> 350
A5: Test-out after upgrades | B5: 1 | C5: 0.3 | D5: 30 | E5: =IF($A5="","",(B5+((C5*'Inputs'!$B$3)/1000))) -> 1.66 | F5: =IF($A5="","",(((E5*'Inputs'!$B$5)+D5)+'Inputs'!$B$6)) -> 146.3 | G5: =IF($A5="","",CEILING((F5/(1-'Inputs'!$B$7)),25)) -> 250 | H5: =IF($A5="","",MAX(0,(G5-'Inputs'!$B$8))) -> 100
E6: =IF($A6="","",(B6+((C6*'Inputs'!$B$3)/1000))) | F6: =IF($A6="","",(((E6*'Inputs'!$B$5)+D6)+'Inputs'!$B$6)) | G6: =IF($A6="","",CEILING((F6/(1-'Inputs'!$B$7)),25)) | H6: =IF($A6="","",MAX(0,(G6-'Inputs'!$B$8)))
E7: =IF($A7="","",(B7+((C7*'Inputs'!$B$3)/1000))) | F7: =IF($A7="","",(((E7*'Inputs'!$B$5)+D7)+'Inputs'!$B$6)) | G7: =IF($A7="","",CEILING((F7/(1-'Inputs'!$B$7)),25)) | H7: =IF($A7="","",MAX(0,(G7-'Inputs'!$B$8)))
E8: =IF($A8="","",(B8+((C8*'Inputs'!$B$3)/1000))) | F8: =IF($A8="","",(((E8*'Inputs'!$B$5)+D8)+'Inputs'!$B$6)) | G8: =IF($A8="","",CEILING((F8/(1-'Inputs'!$B$7)),25)) | H8: =IF($A8="","",MAX(0,(G8-'Inputs'!$B$8)))
E9: =IF($A9="","",(B9+((C9*'Inputs'!$B$3)/1000))) | F9: =IF($A9="","",(((E9*'Inputs'!$B$5)+D9)+'Inputs'!$B$6)) | G9: =IF($A9="","",CEILING((F9/(1-'Inputs'!$B$7)),25)) | H9: =IF($A9="","",MAX(0,(G9-'Inputs'!$B$8)))
E10: =IF($A10="","",(B10+((C10*'Inputs'!$B$3)/1000))) | F10: =IF($A10="","",(((E10*'Inputs'!$B$5)+D10)+'Inputs'!$B$6)) | G10: =IF($A10="","",CEILING((F10/(1-'Inputs'!$B$7)),25)) | H10: =IF($A10="","",MAX(0,(G10-'Inputs'!$B$8)))
E11: =IF($A11="","",(B11+((C11*'Inputs'!$B$3)/1000))) | F11: =IF($A11="","",(((E11*'Inputs'!$B$5)+D11)+'Inputs'!$B$6)) | G11: =IF($A11="","",CEILING((F11/(1-'Inputs'!$B$7)),25)) | H11: =IF($A11="","",MAX(0,(G11-'Inputs'!$B$8)))
E12: =IF($A12="","",(B12+((C12*'Inputs'!$B$3)/1000))) | F12: =IF($A12="","",(((E12*'Inputs'!$B$5)+D12)+'Inputs'!$B$6)) | G12: =IF($A12="","",CEILING((F12/(1-'Inputs'!$B$7)),25)) | H12: =IF($A12="","",MAX(0,(G12-'Inputs'!$B$8)))
E13: =IF($A13="","",(B13+((C13*'Inputs'!$B$3)/1000))) | F13: =IF($A13="","",(((E13*'Inputs'!$B$5)+D13)+'Inputs'!$B$6)) | G13: =IF($A13="","",CEILING((F13/(1-'Inputs'!$B$7)),25)) | H13: =IF($A13="","",MAX(0,(G13-'Inputs'!$B$8)))
E14: =IF($A14="","",(B14+((C14*'Inputs'!$B$3)/1000))) | F14: =IF($A14="","",(((E14*'Inputs'!$B$5)+D14)+'Inputs'!$B$6)) | G14: =IF($A14="","",CEILING((F14/(1-'Inputs'!$B$7)),25)) | H14: =IF($A14="","",MAX(0,(G14-'Inputs'!$B$8)))
E15: =IF($A15="","",(B15+((C15*'Inputs'!$B$3)/1000))) | F15: =IF($A15="","",(((E15*'Inputs'!$B$5)+D15)+'Inputs'!$B$6)) | G15: =IF($A15="","",CEILING((F15/(1-'Inputs'!$B$7)),25)) | H15: =IF($A15="","",MAX(0,(G15-'Inputs'!$B$8)))
E16: =IF($A16="","",(B16+((C16*'Inputs'!$B$3)/1000))) | F16: =IF($A16="","",(((E16*'Inputs'!$B$5)+D16)+'Inputs'!$B$6)) | G16: =IF($A16="","",CEILING((F16/(1-'Inputs'!$B$7)),25)) | H16: =IF($A16="","",MAX(0,(G16-'Inputs'!$B$8)))
E17: =IF($A17="","",(B17+((C17*'Inputs'!$B$3)/1000))) | F17: =IF($A17="","",(((E17*'Inputs'!$B$5)+D17)+'Inputs'!$B$6)) | G17: =IF($A17="","",CEILING((F17/(1-'Inputs'!$B$7)),25)) | H17: =IF($A17="","",MAX(0,(G17-'Inputs'!$B$8)))
... E201: =IF($A201="","",(B201+((C201*'Inputs'!$B$3)/1000))) | F201: =IF($A201="","",(((E201*'Inputs'!$B$5)+D201)+'Inputs'!$B$6)) | G201: =IF($A201="","",CEILING((F201/(1-'Inputs'!$B$7)),25)) | H201: =IF($A201="","",MAX(0,(G201-'Inputs'!$B$8)))

Sheet Inputs
A1: Item | B1: Value | C1: Notes
A2: Home
A3: Home size (sq ft) | B3: 2200
A4: Costs
A5: Hourly cost | B5: 55 | C5: Auditor time including report writing.
A6: Travel cost | B6: 25
A7: Target margin | B7: 0.35
A8: Utility rebate | B8: 150 | C8: Program rebate the homeowner receives; check your utility.
