Workbook

Sheet How to use
B1: Commissary Member Billing
B2: A free billing sheet for commissary kitchens: bill members by plan, hours, and overage with outstanding invoices in Sheets or Excel.
B4: Quick start
A5: 1 | B5: Open the Members tab and replace the sample rows with your own — one row per entry. Formulas fill in automatically for new rows.
A6: 2 | B6: Enter each member's plan, included hours and this month's hours used (from your booking sheet). Overage is billed automatically.
A7: 3 | B7: Move Invoice status from Draft to Sent to Paid; the Billing summary shows what's still owed.
A8: 4 | B8: Keep a backup copy before restructuring columns; renaming a header is safe, deleting a column used in formulas is not.
B10: Colour key
B11: Yellow cells: type your numbers here.
B12: Grey cells: calculated automatically. Leave them alone.
B13: Red highlight: overdue or below a limit. Needs attention.
B14: Amber highlight: getting close. Check soon.
B16: Sample rows are examples. Overwrite or delete them. Formulas extend to new rows automatically. Works in Excel and Google Sheets (File → Import).

Sheet Members
A1: Member | B1: Plan | C1: Monthly fee | D1: Included hours | E1: Hours used | F1: Overage rate | G1: Storage & add-ons | H1: Invoice status | I1: Overage hours | J1: Invoice total
A2: Fire & Rice Food Truck | B2: Pro 60 hrs | C2: 1250 | D2: 60 | E2: 72 | F2: 24 | G2: 150 | H2: Sent | I2: =IF($A2="","",MAX(0,(E2-D2))) -> 12 | J2: =IF($A2="","",((C2+(I2*F2))+G2)) -> 1688
A3: Sweet Tooth Cakes | B3: Starter 20 hrs | C3: 495 | D3: 20 | E3: 18 | F3: 28 | G3: 60 | H3: Paid | I3: =IF($A3="","",MAX(0,(E3-D3))) -> 0 | J3: =IF($A3="","",((C3+(I3*F3))+G3)) -> 555
A4: Verde Tamales | B4: Starter 20 hrs | C4: 495 | D4: 20 | E4: 31 | F4: 28 | G4: 0 | H4: Sent | I4: =IF($A4="","",MAX(0,(E4-D4))) -> 11 | J4: =IF($A4="","",((C4+(I4*F4))+G4)) -> 803
A5: Coastal Juice Co. | B5: Pro 60 hrs | C5: 1250 | D5: 60 | E5: 44 | F5: 24 | G5: 220 | H5: Draft | I5: =IF($A5="","",MAX(0,(E5-D5))) -> 0 | J5: =IF($A5="","",((C5+(I5*F5))+G5)) -> 1470
A6: Mama Lu's Catering | B6: Unlimited | C6: 2400 | D6: 999 | E6: 140 | F6: 0 | G6: 300 | H6: Paid | I6: =IF($A6="","",MAX(0,(E6-D6))) -> 0 | J6: =IF($A6="","",((C6+(I6*F6))+G6)) -> 2700
I7: =IF($A7="","",MAX(0,(E7-D7))) | J7: =IF($A7="","",((C7+(I7*F7))+G7))
I8: =IF($A8="","",MAX(0,(E8-D8))) | J8: =IF($A8="","",((C8+(I8*F8))+G8))
I9: =IF($A9="","",MAX(0,(E9-D9))) | J9: =IF($A9="","",((C9+(I9*F9))+G9))
I10: =IF($A10="","",MAX(0,(E10-D10))) | J10: =IF($A10="","",((C10+(I10*F10))+G10))
I11: =IF($A11="","",MAX(0,(E11-D11))) | J11: =IF($A11="","",((C11+(I11*F11))+G11))
I12: =IF($A12="","",MAX(0,(E12-D12))) | J12: =IF($A12="","",((C12+(I12*F12))+G12))
I13: =IF($A13="","",MAX(0,(E13-D13))) | J13: =IF($A13="","",((C13+(I13*F13))+G13))
I14: =IF($A14="","",MAX(0,(E14-D14))) | J14: =IF($A14="","",((C14+(I14*F14))+G14))
I15: =IF($A15="","",MAX(0,(E15-D15))) | J15: =IF($A15="","",((C15+(I15*F15))+G15))
I16: =IF($A16="","",MAX(0,(E16-D16))) | J16: =IF($A16="","",((C16+(I16*F16))+G16))
I17: =IF($A17="","",MAX(0,(E17-D17))) | J17: =IF($A17="","",((C17+(I17*F17))+G17))
I18: =IF($A18="","",MAX(0,(E18-D18))) | J18: =IF($A18="","",((C18+(I18*F18))+G18))
... I201: =IF($A201="","",MAX(0,(E201-D201))) | J201: =IF($A201="","",((C201+(I201*F201))+G201))

Sheet Billing summary
A1: Item | B1: Value | C1: Notes
A2: Total billed | B2: =SUM('Members'!$J$2:$J$201) -> 7216
A3: Collected | B3: =SUMIFS('Members'!$J$2:$J$201,'Members'!$H$2:$H$201,"Paid") -> 3255
A4: Outstanding | B4: =SUMIFS('Members'!$J$2:$J$201,'Members'!$H$2:$H$201,"Sent") -> 2491
A5: Not yet sent | B5: =SUMIFS('Members'!$J$2:$J$201,'Members'!$H$2:$H$201,"Draft") -> 1470
A6: Overage hours billed | B6: =SUM('Members'!$I$2:$I$201) -> 23
