Workbook

Sheet How to use
B1: Butcher Supplier Order Log
B2: A free supplier order log for butcher shops: track orders, weights, costs, and delivery by supplier in Google Sheets or Excel.
B4: Quick start
A5: 1 | B5: Open the Orders tab and replace the sample rows with your own — one row per entry. Formulas fill in automatically for new rows.
A6: 2 | B6: Weigh and probe deliveries at receipt; Too warm turns red above 41 F (follow your food code and HACCP plan for what to do).
A7: 3 | B7: Line cost uses received weight once entered, so shorts are not paid for.
A8: 4 | B8: Keep a backup copy before restructuring columns; renaming a header is safe, deleting a column used in formulas is not.
B10: Colour key
B11: Yellow cells: type your numbers here.
B12: Grey cells: calculated automatically. Leave them alone.
B13: Red highlight: overdue or below a limit. Needs attention.
B14: Amber highlight: getting close. Check soon.
B16: Sample rows are examples. Overwrite or delete them. Formulas extend to new rows automatically. Works in Excel and Google Sheets (File → Import).

Sheet Orders
A1: Order date | B1: Supplier | C1: Item | D1: Weight (lb) | E1: Price per lb | F1: Delivery date | G1: Received | H1: Received weight (lb) | I1: Temp at receipt (F) | J1: Line cost | K1: Temp check
A2: 46302 | B2: Valley Beef Co | C2: Beef chuck primal | D2: 85 | E2: 4.6 | F2: 46304 | G2: Received | H2: 83.2 | I2: 36 | J2: =IF($A2="","",ROUND((IF((H2>0),H2,D2)*E2),2)) -> 382.72 | K2: =IF($A2="","",IF((I2=""),"",IF((I2>41),"Too warm","OK"))) -> OK
A3: 46302 | B3: Heritage Pork | C3: Pork shoulder | D3: 60 | E3: 2.9 | F3: 46304 | G3: Received | H3: 61 | I3: 38 | J3: =IF($A3="","",ROUND((IF((H3>0),H3,D3)*E3),2)) -> 176.9 | K3: =IF($A3="","",IF((I3=""),"",IF((I3>41),"Too warm","OK"))) -> OK
A4: 46305 | B4: Coastal Poultry | C4: Whole chickens | D4: 120 | E4: 2.15 | F4: 46306 | G4: Short | H4: 96 | I4: 44 | J4: =IF($A4="","",ROUND((IF((H4>0),H4,D4)*E4),2)) -> 206.4 | K4: =IF($A4="","",IF((I4=""),"",IF((I4>41),"Too warm","OK"))) -> Too warm
A5: 46306 | B5: Local lamb farm | C5: Lamb carcass | D5: 48 | E5: 7.8 | F5: 46309 | G5: Pending | H5: 0 | J5: =IF($A5="","",ROUND((IF((H5>0),H5,D5)*E5),2)) -> 374.4 | K5: =IF($A5="","",IF((I5=""),"",IF((I5>41),"Too warm","OK")))
A6: 46307 | B6: Valley Beef Co | C6: Beef short loin | D6: 40 | E6: 9.2 | F6: 46310 | G6: Pending | H6: 0 | J6: =IF($A6="","",ROUND((IF((H6>0),H6,D6)*E6),2)) -> 368 | K6: =IF($A6="","",IF((I6=""),"",IF((I6>41),"Too warm","OK")))
J7: =IF($A7="","",ROUND((IF((H7>0),H7,D7)*E7),2)) | K7: =IF($A7="","",IF((I7=""),"",IF((I7>41),"Too warm","OK")))
J8: =IF($A8="","",ROUND((IF((H8>0),H8,D8)*E8),2)) | K8: =IF($A8="","",IF((I8=""),"",IF((I8>41),"Too warm","OK")))
J9: =IF($A9="","",ROUND((IF((H9>0),H9,D9)*E9),2)) | K9: =IF($A9="","",IF((I9=""),"",IF((I9>41),"Too warm","OK")))
J10: =IF($A10="","",ROUND((IF((H10>0),H10,D10)*E10),2)) | K10: =IF($A10="","",IF((I10=""),"",IF((I10>41),"Too warm","OK")))
J11: =IF($A11="","",ROUND((IF((H11>0),H11,D11)*E11),2)) | K11: =IF($A11="","",IF((I11=""),"",IF((I11>41),"Too warm","OK")))
J12: =IF($A12="","",ROUND((IF((H12>0),H12,D12)*E12),2)) | K12: =IF($A12="","",IF((I12=""),"",IF((I12>41),"Too warm","OK")))
J13: =IF($A13="","",ROUND((IF((H13>0),H13,D13)*E13),2)) | K13: =IF($A13="","",IF((I13=""),"",IF((I13>41),"Too warm","OK")))
J14: =IF($A14="","",ROUND((IF((H14>0),H14,D14)*E14),2)) | K14: =IF($A14="","",IF((I14=""),"",IF((I14>41),"Too warm","OK")))
J15: =IF($A15="","",ROUND((IF((H15>0),H15,D15)*E15),2)) | K15: =IF($A15="","",IF((I15=""),"",IF((I15>41),"Too warm","OK")))
J16: =IF($A16="","",ROUND((IF((H16>0),H16,D16)*E16),2)) | K16: =IF($A16="","",IF((I16=""),"",IF((I16>41),"Too warm","OK")))
J17: =IF($A17="","",ROUND((IF((H17>0),H17,D17)*E17),2)) | K17: =IF($A17="","",IF((I17=""),"",IF((I17>41),"Too warm","OK")))
J18: =IF($A18="","",ROUND((IF((H18>0),H18,D18)*E18),2)) | K18: =IF($A18="","",IF((I18=""),"",IF((I18>41),"Too warm","OK")))
... J201: =IF($A201="","",ROUND((IF((H201>0),H201,D201)*E201),2)) | K201: =IF($A201="","",IF((I201=""),"",IF((I201>41),"Too warm","OK")))

Sheet Spend
A1: Item | B1: Value | C1: Notes
A2: Totals
A3: Total spend | B3: =SUM('Orders'!$J$2:$J$201) -> 1508.42
A4: By supplier
A5: Valley Beef Co | B5: =SUMIFS('Orders'!$J$2:$J$201,'Orders'!$B$2:$B$201,"Valley Beef Co") -> 750.72
A6: Heritage Pork | B6: =SUMIFS('Orders'!$J$2:$J$201,'Orders'!$B$2:$B$201,"Heritage Pork") -> 176.9
A7: Coastal Poultry | B7: =SUMIFS('Orders'!$J$2:$J$201,'Orders'!$B$2:$B$201,"Coastal Poultry") -> 206.4
A8: Local lamb farm | B8: =SUMIFS('Orders'!$J$2:$J$201,'Orders'!$B$2:$B$201,"Local lamb farm") -> 374.4
